BEGIN:VCALENDAR
VERSION:2.0
PRODID:-//Associazione Culturale Circassa in Italia - ECPv6.6.1//NONSGML v1.0//EN
CALSCALE:GREGORIAN
METHOD:PUBLISH
X-ORIGINAL-URL:https://italia-2.dev.danifo.ru
X-WR-CALDESC:Мероприятия для Associazione Culturale Circassa in Italia
REFRESH-INTERVAL;VALUE=DURATION:PT1H
X-Robots-Tag:noindex
X-PUBLISHED-TTL:PT1H
BEGIN:VTIMEZONE
TZID:UTC
BEGIN:STANDARD
TZOFFSETFROM:+0000
TZOFFSETTO:+0000
TZNAME:UTC
DTSTART:20240101T000000
END:STANDARD
TZID:Europe/Moscow
BEGIN:STANDARD
TZOFFSETFROM:+0300
TZOFFSETTO:+0300
TZNAME:MSK
DTSTART:20240101T000000
END:STANDARD
END:VTIMEZONE
BEGIN:VEVENT
DTSTART;VALUE=DATE:20240627
DTEND;VALUE=DATE:20240628
DTSTAMP:20260423T094446
CREATED:20240814T105430Z
LAST-MODIFIED:20240819T031841Z
UID:2375-1719446400-1719532799@italia-2.dev.danifo.ru
SUMMARY:Accordo di cooperazione con la scuola Suzuki Vescovana\, città di Vescovana
DESCRIPTION:Durante il nostro viaggio in Italia\, abbiamo visitato la scuola Suzuki Vescovana\, situata a Vescovana (provincia di Padova). Questa scuola sostiene attivamente gli scambi culturali nel campo dell’educazione musicale\, in linea con gli obiettivi della nostra Associazione.\n\nDurante la visita\, abbiamo intervistato i proprietari della scuola di musica Suzuki Vescovana – Silvia Migliorini\, Sara Migliorini ed Eva Ferretto. Avevamo già visto su Internet un’esibizione di violino di Silvia e ne eravamo rimasti molto colpiti. Durante l’incontro\, siamo riusciti a registrare l’intervista e a catturare le splendide location della scuola. Oltre a questo\, abbiamo firmato un accordo di cooperazione con la scuola Suzuki Vescovana\, che prevede diversi eventi e programmi chiave.\nA ottobre\, la scuola festeggerà il suo decimo anniversario e l’inaugurazione di un nuovo auditorium\, che diventerà un luogo per concerti e eventi culturali. A questo evento è prevista la presenza di ospiti d’onore\, saranno presenti personalità politiche della regione Veneto.\n\nInoltre\, abbiamo sviluppato un programma congiunto volto allo scambio culturale tra bambini circassi e italiani. Nell’ambito di questo programma\, un gruppo di dieci bambini circassi insieme a un insegnante sarà invitato alla scuola Suzuki Vescovana. Per dieci giorni\, i bambini vivranno\, mangeranno e studieranno nella scuola. I primi cinque-sei giorni saranno dedicati a corsi intensivi di musica\, che si concluderanno con una performance pubblica e la consegna di certificati.\n\nIl programma prevede anche un’interazione stretta tra i bambini circassi e italiani\, che li aiuterà a fare nuove amicizie e a migliorare le loro abilità linguistiche. Al termine del corso\, i bambini italiani torneranno a casa\, mentre per i bambini circassi sarà organizzato un programma turistico di tre giorni per visitare le principali attrazioni della regione.\n\nCrediamo che queste iniziative non solo arricchiranno l’interazione culturale tra i nostri popoli\, ma rappresenteranno anche un importante contributo allo sviluppo dell’educazione musicale e dell’amicizia tra bambini di diversi paesi.
URL:https://italia-2.dev.danifo.ru/event/accordo-di-cooperazione-con-la-scuola-suzuki-vescovana-citta-di-vescovana/
LOCATION:Suzuki Vescovana\, Suzuki Vescovana\, Via IV Novembre 139 Vescovana (PD)\, Italia
CATEGORIES:Riunioni
ATTACH;FMTTYPE=image/webp:https://italia-2.dev.danifo.ru/wp-content/uploads/2024/07/poezdka-v-veskovana.webp
ORGANIZER;CN="ACCI APS":MAILTO:associazione@culturacircassa.it
END:VEVENT
BEGIN:VEVENT
DTSTART;VALUE=DATE:20240627
DTEND;VALUE=DATE:20240628
DTSTAMP:20260423T094446
CREATED:20240814T105430Z
LAST-MODIFIED:20240819T031725Z
UID:2595-1719446400-1719532799@italia-2.dev.danifo.ru
SUMMARY:Соглашение о сотрудничестве со школой Suzuki Vescovana\, г. Вескована
DESCRIPTION:В ходе нашего путешествия по Италии мы посетили школу Suzuki Vescovana\, расположенной в Весковане (провинция Падуя). Эта школа активно поддерживает культурные обмены в сфере музыкального образования\, что совпадает с целями нашей Ассоциации. \nВо время визита мы провели интервью с владельцами музыкальной школы Suzuki Vescovana — Сильвией Мильорини (Silvia Migliorini)\, Сарой Мильорини (Sara Migliorini) и Евой Ферретто (Eva Ferretto). Игру на скрипке в исполнении Сильвии мы ранее видели в интернете и остались под большим впечатлением. В ходе встречи нам удалось снять интервью и запечатлеть красивые локации школы. Помимо этого\, мы заключили договор о сотрудничестве со школой Suzuki Vescovana\, который предусматривает несколько ключевых мероприятий и программ.\nВ октябре школа будет отмечать свое десятилетие\, а также инаугурацию нового аудиториума\, который станет площадкой для проведения концертов и культурных мероприятий. На этом событии будут присутствовать политические деятели региона Венето. \nКроме того\, мы разработали совместную программу\, направленную на культурный обмен между черкесскими и итальянскими детьми. В рамках этой программы группа из десяти черкесских детей вместе с учителем будет приглашена в школу Suzuki Vescovana. В течение десяти дней дети будут жить\, питаться и обучаться в школе. Первые пять-шесть дней будут посвящены интенсивным музыкальным курсам\, которые завершатся публичным выступлением и вручением сертификатов. \nПрограмма также предусматривает тесное взаимодействие между черкесскими и итальянскими детьми\, что поможет им завести новых друзей и улучшить языковые навыки. После завершения курса итальянские дети разъедутся по домам\, а для черкесских детей будет организована трехдневная туристическая программа по основным достопримечательностям региона. \nМы верим\, что эти инициативы не только обогатят культурное взаимодействие между нашими народами\, но и станут важным вкладом в развитие музыкального образования и дружбы между детьми из разных стран.
URL:https://italia-2.dev.danifo.ru/event/soglashenie-o-sotrudnichestve-so-shkoloj-suzuki-vescovana-g-veskovana/
LOCATION:Suzuki Vescovana\, Suzuki Vescovana\, Via IV Novembre 139 Vescovana (PD)\, Italia
CATEGORIES:Встречи
ATTACH;FMTTYPE=image/webp:https://italia-2.dev.danifo.ru/wp-content/uploads/2024/07/poezdka-v-veskovana.webp
ORGANIZER;CN="ACCI APS":MAILTO:associazione@culturacircassa.it
END:VEVENT
BEGIN:VEVENT
DTSTART;VALUE=DATE:20240627
DTEND;VALUE=DATE:20240628
DTSTAMP:20260423T094446
CREATED:20240814T105430Z
LAST-MODIFIED:20240819T031733Z
UID:2644-1719446400-1719532799@italia-2.dev.danifo.ru
SUMMARY:Cooperation Agreement with the Suzuki Vescovana School\, Vescovana
DESCRIPTION:During our journey through Italy\, we visited the Suzuki Vescovana School\, located in Vescovana (Province of Padua). This school actively supports cultural exchanges in the field of music education\, which aligns with the goals of our Association. \nDuring the visit\, we conducted interviews with the owners of the Suzuki Vescovana music school—Silvia Migliorini\, Sara Migliorini\, and Eva Ferretto. We had previously seen Silvia’s violin performance online and were greatly impressed. During the meeting\, we managed to film interviews and capture the beautiful locations of the school. Additionally\, we signed a cooperation agreement with the Suzuki Vescovana School\, which includes several key events and programs. \nIn October\, the school will celebrate its tenth anniversary\, as well as the inauguration of a new auditorium that will serve as a venue for concerts and cultural events. Honorary guests\, including the President of the Veneto region\, are expected to attend this event. \nMoreover\, we developed a joint program aimed at cultural exchange between Circassian and Italian children. As part of this program\, a group of ten Circassian children\, along with a teacher\, will be invited to the Suzuki Vescovana School. For ten days\, the children will live\, eat\, and study at the school. The first five to six days will be devoted to intensive music courses\, culminating in a public performance and the awarding of certificates. \nThe program also includes close interaction between Circassian and Italian children\, helping them to make new friends and improve their language skills. After the course ends\, the Italian children will return home\, and a three-day tourist program will be organized for the Circassian children\, covering the main attractions of the region. \nWe believe that these initiatives will not only enrich cultural interaction between our peoples but also make a significant contribution to the development of music education and friendships between children from different countries.
URL:https://italia-2.dev.danifo.ru/event/cooperation-agreement-with-the-suzuki-vescovana-school-vescovana/
LOCATION:Suzuki Vescovana\, Suzuki Vescovana\, Via IV Novembre 139 Vescovana (PD)\, Italia
CATEGORIES:Meetings
ATTACH;FMTTYPE=image/webp:https://italia-2.dev.danifo.ru/wp-content/uploads/2024/07/poezdka-v-veskovana.webp
ORGANIZER;CN="ACCI APS":MAILTO:associazione@culturacircassa.it
END:VEVENT
BEGIN:VEVENT
DTSTART;VALUE=DATE:20240627
DTEND;VALUE=DATE:20240628
DTSTAMP:20260423T094446
CREATED:20240814T105430Z
LAST-MODIFIED:20240819T063007Z
UID:2789-1719446400-1719532799@italia-2.dev.danifo.ru
SUMMARY:Suzuki Vescovana Okulu ile İşbirliği Anlaşması\, Vescovana
DESCRIPTION:Italya’daki seyahatimiz sırasında\, Padova iline bağlı Vescovana’da bulunan Suzuki Vescovana Okulu’nu ziyaret ettik. Bu okul\, müzik eğitimi alanında kültürel değişimleri aktif olarak desteklemekte olup\, Derneğimizin hedefleriyle örtüşmektedir. \nZiyaret sırasında\, Suzuki Vescovana müzik okulunun sahipleri Silvia Migliorini\, Sara Migliorini ve Eva Ferretto ile röportaj yaptık. Silvia’nın internet üzerinden keman performansını daha önce izlemiştik ve büyük bir etki bırakmıştı. Toplantı sırasında\, röportajları çekme ve okulun güzel mekânlarını kaydetme fırsatımız oldu. Ayrıca\, Suzuki Vescovana Okulu ile işbirliği anlaşması imzaladık\, bu anlaşma birkaç önemli etkinlik ve programı içermektedir. \nEkim ayında\, okul 10. yılını kutlayacak ve yeni bir oditoryumun açılışını yapacak\, bu da konserler ve kültürel etkinlikler için bir mekân olacak. Bu etkinlikte\, Veneto bölgesi başkanı da dahil olmak üzere onur konuklarının katılması bekleniyor. \nBunun yanı sıra\, Çerkes ve İtalyan çocuklar arasında kültürel değişim programı geliştirdik. Bu program kapsamında\, bir öğretmenle birlikte on Çerkes çocuk\, Suzuki Vescovana Okulu’na davet edilecek. On gün boyunca çocuklar okulda kalacak\, yemek yiyecek ve eğitim alacaklar. İlk beş-altı gün yoğun müzik kurslarına ayrılacak ve bu kurslar halka açık bir performans ve sertifika töreni ile sona erecek. \nProgram ayrıca Çerkes ve İtalyan çocuklar arasında yakın etkileşim öngörmekte olup\, bu onların yeni arkadaşlar edinmesine ve dil becerilerini geliştirmesine yardımcı olacaktır. Kursun tamamlanmasından sonra\, İtalyan çocuklar evlerine dönecek\, Çerkes çocuklar için ise bölgenin önemli turistik yerlerine üç günlük bir tur programı düzenlenecektir. \nBu girişimlerin\, halklarımız arasında kültürel etkileşimi zenginleştireceğine ve farklı ülkelerden çocuklar arasında müzik eğitimi ve dostluğun gelişimine önemli bir katkı sağlayacağına inanıyoruz.
URL:https://italia-2.dev.danifo.ru/event/suzuki-vescovana-okulu-ile-isbirligi-anlasmasi-vescovana/
LOCATION:Suzuki Vescovana\, Suzuki Vescovana\, Via IV Novembre 139 Vescovana (PD)\, Italia
CATEGORIES:Evler
ATTACH;FMTTYPE=image/webp:https://italia-2.dev.danifo.ru/wp-content/uploads/2024/07/poezdka-v-veskovana.webp
ORGANIZER;CN="ACCI APS":MAILTO:associazione@culturacircassa.it
END:VEVENT
END:VCALENDAR